BEGIN:VCALENDAR
VERSION:2.0
PRODID:-//eBrain - Epidemiology of Brain Resilience to Aging - ECPv6.15.17.1//NONSGML v1.0//EN
CALSCALE:GREGORIAN
METHOD:PUBLISH
X-WR-CALNAME:eBrain - Epidemiology of Brain Resilience to Aging
X-ORIGINAL-URL:https://www.ebrain.pitt.edu
X-WR-CALDESC:Events for eBrain - Epidemiology of Brain Resilience to Aging
REFRESH-INTERVAL;VALUE=DURATION:PT1H
X-Robots-Tag:noindex
X-PUBLISHED-TTL:PT1H
BEGIN:VTIMEZONE
TZID:America/New_York
BEGIN:DAYLIGHT
TZOFFSETFROM:-0500
TZOFFSETTO:-0400
TZNAME:EDT
DTSTART:20210314T070000
END:DAYLIGHT
BEGIN:STANDARD
TZOFFSETFROM:-0400
TZOFFSETTO:-0500
TZNAME:EST
DTSTART:20211107T060000
END:STANDARD
BEGIN:DAYLIGHT
TZOFFSETFROM:-0500
TZOFFSETTO:-0400
TZNAME:EDT
DTSTART:20220313T070000
END:DAYLIGHT
BEGIN:STANDARD
TZOFFSETFROM:-0400
TZOFFSETTO:-0500
TZNAME:EST
DTSTART:20221106T060000
END:STANDARD
BEGIN:DAYLIGHT
TZOFFSETFROM:-0500
TZOFFSETTO:-0400
TZNAME:EDT
DTSTART:20230312T070000
END:DAYLIGHT
BEGIN:STANDARD
TZOFFSETFROM:-0400
TZOFFSETTO:-0500
TZNAME:EST
DTSTART:20231105T060000
END:STANDARD
END:VTIMEZONE
BEGIN:VEVENT
DTSTART;TZID=America/New_York:20221107T130000
DTEND;TZID=America/New_York:20221107T140000
DTSTAMP:20260420T064413
CREATED:20220829T165105Z
LAST-MODIFIED:20220829T165313Z
UID:5052-1667826000-1667829600@www.ebrain.pitt.edu
SUMMARY:T32 PNA Meeting: Shark Tank
DESCRIPTION:Shark Tank presented by trainees \nAt the start of each “tank”\, trainees are given the tables and figures of a published paper\, but are blind to its full content. They are required to provide a “on the fly” interpretation of the main findings; the audience has the full paper and is tasked with asking clarifying questions in rapid fire succession.  \nMeeting details and Zoom link information →
URL:https://www.ebrain.pitt.edu/event/t32-pna-meeting-16/
LOCATION:Zoom
CATEGORIES:T32 PNA Meeting Fall 2022
END:VEVENT
BEGIN:VEVENT
DTSTART;TZID=America/New_York:20221128T130000
DTEND;TZID=America/New_York:20221128T140000
DTSTAMP:20260420T064413
CREATED:20220829T165257Z
LAST-MODIFIED:20220829T165257Z
UID:5054-1669640400-1669644000@www.ebrain.pitt.edu
SUMMARY:T32 PNA Meeting: Journal Club
DESCRIPTION:PNA Journal Club presented by trainees and Jermon Drake \nThis multi-disciplinary journal club draws on expertise in Epidemiology\, Psychiatry\, Psychology\, Rehabilitation Sciences\, Biomedical Engineering and Neuroscience. The goal is to discuss recent advances in neuroimaging as they apply to aging & population research. The journal clubs generate lively discussions on applications of novel neuroimaging methods in the context of aging and population studies with specific focus on ADRD. Topics include High Field MRI\, Iron Deposition\, Resting State MRI\, and Diffusion Tensor Imaging. The Journal club shifts gears to the more informal settings of “summer roundtables” typically through discussion of reviews and seminal papers\, or book clubs. We will continue the COVID-Brain which had attracted a lot of interest from other T32s\, especially those in aging\, psychiatry and cardiovascular medicine. \nMeeting details and Zoom link information →
URL:https://www.ebrain.pitt.edu/event/t32-pna-meeting-journal-club/
LOCATION:Zoom
CATEGORIES:T32 PNA Meeting Fall 2022
END:VEVENT
END:VCALENDAR