BEGIN:VCALENDAR
VERSION:2.0
PRODID:-//eBrain - Epidemiology of Brain Resilience to Aging - ECPv6.15.17.1//NONSGML v1.0//EN
CALSCALE:GREGORIAN
METHOD:PUBLISH
X-WR-CALNAME:eBrain - Epidemiology of Brain Resilience to Aging
X-ORIGINAL-URL:https://www.ebrain.pitt.edu
X-WR-CALDESC:Events for eBrain - Epidemiology of Brain Resilience to Aging
REFRESH-INTERVAL;VALUE=DURATION:PT1H
X-Robots-Tag:noindex
X-PUBLISHED-TTL:PT1H
BEGIN:VTIMEZONE
TZID:America/New_York
BEGIN:DAYLIGHT
TZOFFSETFROM:-0500
TZOFFSETTO:-0400
TZNAME:EDT
DTSTART:20200308T070000
END:DAYLIGHT
BEGIN:STANDARD
TZOFFSETFROM:-0400
TZOFFSETTO:-0500
TZNAME:EST
DTSTART:20201101T060000
END:STANDARD
BEGIN:DAYLIGHT
TZOFFSETFROM:-0500
TZOFFSETTO:-0400
TZNAME:EDT
DTSTART:20210314T070000
END:DAYLIGHT
BEGIN:STANDARD
TZOFFSETFROM:-0400
TZOFFSETTO:-0500
TZNAME:EST
DTSTART:20211107T060000
END:STANDARD
BEGIN:DAYLIGHT
TZOFFSETFROM:-0500
TZOFFSETTO:-0400
TZNAME:EDT
DTSTART:20220313T070000
END:DAYLIGHT
BEGIN:STANDARD
TZOFFSETFROM:-0400
TZOFFSETTO:-0500
TZNAME:EST
DTSTART:20221106T060000
END:STANDARD
END:VTIMEZONE
BEGIN:VEVENT
DTSTART;TZID=America/New_York:20210112T160000
DTEND;TZID=America/New_York:20210112T170000
DTSTAMP:20260424T103345
CREATED:20210204T201205Z
LAST-MODIFIED:20210204T201701Z
UID:3329-1610467200-1610470800@www.ebrain.pitt.edu
SUMMARY:T32 PNA Training
DESCRIPTION:Topic: This meeting will be spent kicking around ideas for new collaborations. Come prepared to present your work\, 5 minutes top. Best if you have slides for visual. \nJoin Zoom Meeting: https://pitt.zoom.us/j/94507436534 \nMeeting ID: 945 0743 6534
URL:https://www.ebrain.pitt.edu/event/t32-pna-training-2/
CATEGORIES:Spring 2021 Training Activities
END:VEVENT
BEGIN:VEVENT
DTSTART;TZID=America/New_York:20210126T160000
DTEND;TZID=America/New_York:20210126T170000
DTSTAMP:20260424T103345
CREATED:20210204T201904Z
LAST-MODIFIED:20210204T201904Z
UID:3335-1611676800-1611680400@www.ebrain.pitt.edu
SUMMARY:T32 PNA Training - Rebecca Ehrenkranz\, MPH
DESCRIPTION:Topic: Neuroscience: Self-reported energy in Aging \nJoin Zoom Meeting: https://pitt.zoom.us/j/94507436534 \nMeeting ID: 945 0743 6534
URL:https://www.ebrain.pitt.edu/event/t32-pna-training-rebecca-ehrenkranz-mph-2/
CATEGORIES:Spring 2021 Training Activities
END:VEVENT
END:VCALENDAR