BEGIN:VCALENDAR
VERSION:2.0
PRODID:-//eBrain - Epidemiology of Brain Resilience to Aging - ECPv6.15.17.1//NONSGML v1.0//EN
CALSCALE:GREGORIAN
METHOD:PUBLISH
X-WR-CALNAME:eBrain - Epidemiology of Brain Resilience to Aging
X-ORIGINAL-URL:https://www.ebrain.pitt.edu
X-WR-CALDESC:Events for eBrain - Epidemiology of Brain Resilience to Aging
REFRESH-INTERVAL;VALUE=DURATION:PT1H
X-Robots-Tag:noindex
X-PUBLISHED-TTL:PT1H
BEGIN:VTIMEZONE
TZID:America/New_York
BEGIN:DAYLIGHT
TZOFFSETFROM:-0500
TZOFFSETTO:-0400
TZNAME:EDT
DTSTART:20240310T070000
END:DAYLIGHT
BEGIN:STANDARD
TZOFFSETFROM:-0400
TZOFFSETTO:-0500
TZNAME:EST
DTSTART:20241103T060000
END:STANDARD
BEGIN:DAYLIGHT
TZOFFSETFROM:-0500
TZOFFSETTO:-0400
TZNAME:EDT
DTSTART:20250309T070000
END:DAYLIGHT
BEGIN:STANDARD
TZOFFSETFROM:-0400
TZOFFSETTO:-0500
TZNAME:EST
DTSTART:20251102T060000
END:STANDARD
BEGIN:DAYLIGHT
TZOFFSETFROM:-0500
TZOFFSETTO:-0400
TZNAME:EDT
DTSTART:20260308T070000
END:DAYLIGHT
BEGIN:STANDARD
TZOFFSETFROM:-0400
TZOFFSETTO:-0500
TZNAME:EST
DTSTART:20261101T060000
END:STANDARD
END:VTIMEZONE
BEGIN:VEVENT
DTSTART;TZID=America/New_York:20250327T130000
DTEND;TZID=America/New_York:20250327T140000
DTSTAMP:20260421T123057
CREATED:20250130T144625Z
LAST-MODIFIED:20250130T144625Z
UID:6240-1743080400-1743084000@www.ebrain.pitt.edu
SUMMARY:PNA Spring Seminar
DESCRIPTION:Topic: Hands on Session pt. 1 \nTrainee Shruthi Venkatesh will lead the group in a hands-on session.
URL:https://www.ebrain.pitt.edu/event/pna-spring-seminar-6/
LOCATION:5140 Public Health
CATEGORIES:T32 PNA Meeting Spring 2025
END:VEVENT
END:VCALENDAR