BEGIN:VCALENDAR
VERSION:2.0
PRODID:-//eBrain - Epidemiology of Brain Resilience to Aging - ECPv6.15.17.1//NONSGML v1.0//EN
CALSCALE:GREGORIAN
METHOD:PUBLISH
X-WR-CALNAME:eBrain - Epidemiology of Brain Resilience to Aging
X-ORIGINAL-URL:https://www.ebrain.pitt.edu
X-WR-CALDESC:Events for eBrain - Epidemiology of Brain Resilience to Aging
REFRESH-INTERVAL;VALUE=DURATION:PT1H
X-Robots-Tag:noindex
X-PUBLISHED-TTL:PT1H
BEGIN:VTIMEZONE
TZID:America/New_York
BEGIN:DAYLIGHT
TZOFFSETFROM:-0500
TZOFFSETTO:-0400
TZNAME:EDT
DTSTART:20230312T070000
END:DAYLIGHT
BEGIN:STANDARD
TZOFFSETFROM:-0400
TZOFFSETTO:-0500
TZNAME:EST
DTSTART:20231105T060000
END:STANDARD
BEGIN:DAYLIGHT
TZOFFSETFROM:-0500
TZOFFSETTO:-0400
TZNAME:EDT
DTSTART:20240310T070000
END:DAYLIGHT
BEGIN:STANDARD
TZOFFSETFROM:-0400
TZOFFSETTO:-0500
TZNAME:EST
DTSTART:20241103T060000
END:STANDARD
BEGIN:DAYLIGHT
TZOFFSETFROM:-0500
TZOFFSETTO:-0400
TZNAME:EDT
DTSTART:20250309T070000
END:DAYLIGHT
BEGIN:STANDARD
TZOFFSETFROM:-0400
TZOFFSETTO:-0500
TZNAME:EST
DTSTART:20251102T060000
END:STANDARD
END:VTIMEZONE
BEGIN:VEVENT
DTSTART;TZID=America/New_York:20241010T130000
DTEND;TZID=America/New_York:20241010T150000
DTSTAMP:20260420T081812
CREATED:20240816T160653Z
LAST-MODIFIED:20240916T141016Z
UID:5951-1728565200-1728572400@www.ebrain.pitt.edu
SUMMARY:PNA Fall Seminar
DESCRIPTION:Topic: Put Your Presentation to the Test*   \n\nPart TWO of Public Speaking Workshop.\n*This Meeting will be 1-3 pm due to the workshop. \n\nThe Fall 2024 PNA Seminar theme is “A PNA Perspective on WEIRD-A Special Writing Workshop Series”
URL:https://www.ebrain.pitt.edu/event/pna-seminar-3/
LOCATION:SPH\, 5th floor\, room 5139
CATEGORIES:T32 PNA Meeting Fall 2024
ATTACH;FMTTYPE=image/jpeg:https://www.ebrain.pitt.edu/wp-content/uploads/2024/08/news-2024-08-15-pnaseminar.jpg
END:VEVENT
END:VCALENDAR