BEGIN:VCALENDAR
VERSION:2.0
PRODID:-//eBrain - Epidemiology of Brain Resilience to Aging - ECPv6.15.17.1//NONSGML v1.0//EN
CALSCALE:GREGORIAN
METHOD:PUBLISH
X-WR-CALNAME:eBrain - Epidemiology of Brain Resilience to Aging
X-ORIGINAL-URL:https://www.ebrain.pitt.edu
X-WR-CALDESC:Events for eBrain - Epidemiology of Brain Resilience to Aging
REFRESH-INTERVAL;VALUE=DURATION:PT1H
X-Robots-Tag:noindex
X-PUBLISHED-TTL:PT1H
BEGIN:VTIMEZONE
TZID:America/New_York
BEGIN:DAYLIGHT
TZOFFSETFROM:-0500
TZOFFSETTO:-0400
TZNAME:EDT
DTSTART:20230312T070000
END:DAYLIGHT
BEGIN:STANDARD
TZOFFSETFROM:-0400
TZOFFSETTO:-0500
TZNAME:EST
DTSTART:20231105T060000
END:STANDARD
BEGIN:DAYLIGHT
TZOFFSETFROM:-0500
TZOFFSETTO:-0400
TZNAME:EDT
DTSTART:20240310T070000
END:DAYLIGHT
BEGIN:STANDARD
TZOFFSETFROM:-0400
TZOFFSETTO:-0500
TZNAME:EST
DTSTART:20241103T060000
END:STANDARD
BEGIN:DAYLIGHT
TZOFFSETFROM:-0500
TZOFFSETTO:-0400
TZNAME:EDT
DTSTART:20250309T070000
END:DAYLIGHT
BEGIN:STANDARD
TZOFFSETFROM:-0400
TZOFFSETTO:-0500
TZNAME:EST
DTSTART:20251102T060000
END:STANDARD
END:VTIMEZONE
BEGIN:VEVENT
DTSTART;TZID=America/New_York:20240523T100000
DTEND;TZID=America/New_York:20240523T123000
DTSTAMP:20260420T033249
CREATED:20240329T143801Z
LAST-MODIFIED:20240329T145139Z
UID:5782-1716458400-1716467400@www.ebrain.pitt.edu
SUMMARY:EPI2012 - Workshop III: Population Neuroscience: from research question to hypotheses\, Project presentation II
DESCRIPTION:Workshop III: Population Neuroscience: from research question to hypotheses.\nRosano \nProject presentation II \nClass \nAssignment due on this day:\nPRESENT graphical abstract of your paper (1 slide\, with revisions based on feedback from 5/19) \ncourse details →
URL:https://www.ebrain.pitt.edu/event/epi2012-workshop-iii-population-neuroscience-from-research-question-to-hypotheses-project-presentation-ii/
LOCATION:Zoom
CATEGORIES:EPI2012
END:VEVENT
END:VCALENDAR