BEGIN:VCALENDAR
VERSION:2.0
PRODID:-//eBrain - Epidemiology of Brain Resilience to Aging - ECPv6.15.17.1//NONSGML v1.0//EN
CALSCALE:GREGORIAN
METHOD:PUBLISH
X-WR-CALNAME:eBrain - Epidemiology of Brain Resilience to Aging
X-ORIGINAL-URL:https://www.ebrain.pitt.edu
X-WR-CALDESC:Events for eBrain - Epidemiology of Brain Resilience to Aging
REFRESH-INTERVAL;VALUE=DURATION:PT1H
X-Robots-Tag:noindex
X-PUBLISHED-TTL:PT1H
BEGIN:VTIMEZONE
TZID:America/New_York
BEGIN:DAYLIGHT
TZOFFSETFROM:-0500
TZOFFSETTO:-0400
TZNAME:EDT
DTSTART:20220313T070000
END:DAYLIGHT
BEGIN:STANDARD
TZOFFSETFROM:-0400
TZOFFSETTO:-0500
TZNAME:EST
DTSTART:20221106T060000
END:STANDARD
BEGIN:DAYLIGHT
TZOFFSETFROM:-0500
TZOFFSETTO:-0400
TZNAME:EDT
DTSTART:20230312T070000
END:DAYLIGHT
BEGIN:STANDARD
TZOFFSETFROM:-0400
TZOFFSETTO:-0500
TZNAME:EST
DTSTART:20231105T060000
END:STANDARD
BEGIN:DAYLIGHT
TZOFFSETFROM:-0500
TZOFFSETTO:-0400
TZNAME:EDT
DTSTART:20240310T070000
END:DAYLIGHT
BEGIN:STANDARD
TZOFFSETFROM:-0400
TZOFFSETTO:-0500
TZNAME:EST
DTSTART:20241103T060000
END:STANDARD
END:VTIMEZONE
BEGIN:VEVENT
DTSTART;TZID=America/New_York:20231010T130000
DTEND;TZID=America/New_York:20231010T140000
DTSTAMP:20260420T022400
CREATED:20230911T225727Z
LAST-MODIFIED:20230921T160358Z
UID:5364-1696942800-1696946400@www.ebrain.pitt.edu
SUMMARY:T32 PNA Meeting: PNA Brain Storming
DESCRIPTION:Speaker: Kailyn Witonsky \n \n\nPNA In-Person Meetings\, Fall 2023 \nPNA Life after T – Practical workshops to provide instruction on skills needed after training (“T”). For example: manage one’s laboratory or research group\, prepare manuals of operations\, of standard operating procedures\, how to hire and manage staff\, and mentor trainees. \n\nPlease attend one of these listed here:\nhttps://www.oacd.health.pitt.edu/programming\nor\nhttps://www.oacd.health.pitt.edu/video-library\nPlease take notes: you will be asked to report back to the group in the spring semester.\n\n*Speed Dating – Each trainee gives an elevator pitch of their research project\, then each person identifies >1 match for their existing project\, or for a new project. To facilitate this conversation\, we will use an interactive organizational chart illustrating where each trainee’s work falls in the context of the ADRD line of inquiry (e.g. risk factors assessment\, neuroimaging etc). \n**PNA Journal Clubs – This multi-disciplinary journal club draws on expertise in Epidemiology\, Psychiatry\, Psychology\, Rehabilitation Sciences\, Biomedical Engineering and Neuroscience. The goal is to discuss recent advances in neuroimaging as they apply to aging & population research. The journal clubs generate lively discussions on applications of novel neuroimaging methods in the context of aging and population studies with specific focus on ADRD. Topics include High Field MRI\, Iron Deposition\, Resting State MRI\, and Diffusion Tensor Imaging. The Journal club shifts gears to the more informal settings of “summer roundtables” typically through discussion of reviews and seminal papers\, or book clubs. We will continue the COVID-Brain which had attracted a lot of interest from other T32s\, especially those in aging\, psychiatry and cardiovascular medicine. \n***Shark Tanks – At the start of each “tank”\, trainees are given the tables and figures of a published paper\, but are blind to its full content. They are required to provide a “on the fly” interpretation of the main findings; the audience has the full paper and is tasked with asking clarifying questions in rapid fire succession. \nSWOT 4DM – Trainees use the Strength\, Weakness\, Opportunities and Threat (SWOT) model\, to analyze real-world problems that require Decision Making (DM)\, for example job offers\, prioritize requests and demands\, time management. \n  \nAnyone interested in attending should contact Rafael Migoyo (rvm14@pitt.edu)
URL:https://www.ebrain.pitt.edu/event/t32-pna-meeting-2023-10-10/
CATEGORIES:T32 PNA Meeting Fall 2023
END:VEVENT
END:VCALENDAR